BEGIN:VCALENDAR
VERSION:2.0
PRODID:icalendar-ruby
CALSCALE:GREGORIAN
METHOD:PUBLISH
BEGIN:VEVENT
DTSTAMP:20260424T162312Z
UID:12-21498@cccarson.com
DTSTART:20230528T170000Z
DTEND:20230528T183000Z
CLASS:PUBLIC
CREATED:20221104T150259
DESCRIPTION:
LAST-MODIFIED:20221104T150259
LOCATION:Calvary Chapel
SUMMARY:Sunday Service/Worship
URL;VALUE=URI:https://www.cccarson.com/events/sunday-service-worship/2023-0
 5-28
END:VEVENT
END:VCALENDAR
