BEGIN:VCALENDAR
VERSION:2.0
PRODID:icalendar-ruby
CALSCALE:GREGORIAN
METHOD:PUBLISH
BEGIN:VEVENT
DTSTAMP:20260421T190858Z
UID:80-763246@cccarson.com
DTSTART:20261023T173000Z
DTEND:20261023T183000Z
CLASS:PUBLIC
CREATED:20260421T094328
DESCRIPTION:Join us in Prayer in person on Fridays at 10:30AM.\n \n\nRejoi
 ce always\, pray without ceasing\, in everything give thanks\; for this is
  the will of God in Christ Jesus for you. \nI Thessalonians 5:16-18 \n
LAST-MODIFIED:20260421T094328
LOCATION:1635 E Clearview Dr
SUMMARY:In Person Prayer
URL;VALUE=URI:https://www.cccarson.com/events/in-person-prayer/2026-10-23
ATTACH;FILENAME=Prayer-Slide.png;FMTTYPE=image/png:https://dq5pwpg1q8ru0.cl
 oudfront.net/2025/01/09/22/40/57/76d4f1ce-3fe7-4dec-b102-6757242b0faa/Pray
 er-Slide.png
END:VEVENT
END:VCALENDAR
